BEGIN:VCALENDAR
VERSION:2.0
PRODID:icalendar-ruby
CALSCALE:GREGORIAN
METHOD:PUBLISH
BEGIN:VEVENT
DTSTAMP:20260422T140622Z
UID:95-364534@oglesbyunionchurch.com
DTSTART:20260507T233000Z
DTEND:20260508T013000Z
CLASS:PUBLIC
CREATED:20260406T095122
DESCRIPTION:
LAST-MODIFIED:20260406T095122
LOCATION:Oglesby Union Church - Youth Room
SUMMARY:Refuge Youth Group (Junior High & High School)
URL;VALUE=URI:https://www.oglesbyunionchurch.com/events/refuge-youth-group-
 junior-high-high-school/2026-05-07
ATTACH;FILENAME=Image 14.jpeg;FMTTYPE=image/jpeg:https://dq5pwpg1q8ru0.clou
 dfront.net/2025/09/11/14/35/49/0b13e849-6638-4b33-8fdb-f6558b804f57/Image%
 2014.jpeg
END:VEVENT
END:VCALENDAR
