BEGIN:VCALENDAR
VERSION:2.0
PRODID:icalendar-ruby
CALSCALE:GREGORIAN
METHOD:PUBLISH
BEGIN:VEVENT
DTSTAMP:20260424T100901Z
UID:52-376340@oglesbyunionchurch.com
DTSTART:20261007T233000Z
DTEND:20261008T003000Z
CLASS:PUBLIC
CREATED:20260423T211837
DESCRIPTION:
LAST-MODIFIED:20260423T211837
LOCATION:Oglesby Union Church
SUMMARY:Prayer Meeting
URL;VALUE=URI:https://www.oglesbyunionchurch.com/events/prayer-meeting--52/
 2026-10-07
ATTACH;FILENAME=Image 13.jpeg;FMTTYPE=image/jpeg:https://dq5pwpg1q8ru0.clou
 dfront.net/2025/02/16/01/01/53/bf63b221-1751-4728-a53b-a0417efa39f2/Image%
 2013.jpeg
END:VEVENT
END:VCALENDAR
